BEGIN:VCALENDAR
VERSION:2.0
PRODID:-//Next Level Fitness - ECPv6.3.5//NONSGML v1.0//EN
CALSCALE:GREGORIAN
METHOD:PUBLISH
X-WR-CALNAME:Next Level Fitness
X-ORIGINAL-URL:https://nextlevelfitness.hu
X-WR-CALDESC:Events for Next Level Fitness
REFRESH-INTERVAL;VALUE=DURATION:PT1H
X-Robots-Tag:noindex
X-PUBLISHED-TTL:PT1H
BEGIN:VTIMEZONE
TZID:Europe/Budapest
BEGIN:DAYLIGHT
TZOFFSETFROM:+0100
TZOFFSETTO:+0200
TZNAME:CEST
DTSTART:20220327T010000
END:DAYLIGHT
BEGIN:STANDARD
TZOFFSETFROM:+0200
TZOFFSETTO:+0100
TZNAME:CET
DTSTART:20221030T010000
END:STANDARD
END:VTIMEZONE
BEGIN:VEVENT
DTSTART;TZID=Europe/Budapest:20221126T160000
DTEND;TZID=Europe/Budapest:20221126T183000
DTSTAMP:20260423T095241
CREATED:20221030T191554Z
LAST-MODIFIED:20221031T140031Z
UID:56243-1669478400-1669487400@nextlevelfitness.hu
SUMMARY:Edzés & Szeminárium Dudás Ádám testépítő bajnokkal
DESCRIPTION:[vc_row equal_height=”yes” content_placement=”middle”][vc_column]A visszaszámlálás elindult!2022/11/26 16:00:00Tartsatok velünk! \nEdzés & Szeminárium Dudás Ádám testépítő bajnokkal a Next Level Fitnessben |2022.11.26. szombat\nMint azt már sokan tudjátok\, csapatunk tagja Takács Zoli többszörös bajnok testépítő\, aki sikert sikerre halmoz a hazai- és világversenyeken is. Szeretnénk\, hogy Ti is jobban megismerjétek a profi testépítők életmódját\, tanulhassatok tapasztalataikból\, ezért november 26-án szombaton\, Zoli meghívására\, Dudás Ádám testépítő bajnok is meglátogatja a Next Level Fitness –t\, egy közös\, nyílt edzésre és -szemináriumra.[/vc_column][/vc_row][vc_row][vc_column][vc_row_inner equal_height=”yes” content_placement=”middle”][vc_column_inner width=”1/2″][vc_single_image image=”56233″ img_size=”full” image_hovers=”false”][/vc_column_inner][vc_column_inner width=”1/2″]Program:[vc_column_text]16:00 – bemelegítés\n16:10-17:10 – Ádám és Zoli egy közös edzés keretében bemutatja hogyan edzenek a profik\, kipróbálják a legújabb edzőgépeket\, megmutatják helyes használatukat.\n17:10 – Nyújtás és kötetlen beszélgetés\, amikor feltehetitek kérdéseiteket Ádámnak és Zolinak\, és persze közös fotózás.\n17:30 – Jótékonysági Tombola sorsolás \nVendégünk a Zöld Menedék Állatvédelmi Alapítvány elnöke\, Fülöp Alíz\, aki átveszi a november során gyűjtött felajánlásokat.[/vc_column_text][/vc_column_inner][/vc_row_inner][vc_row_inner equal_height=”yes” content_placement=”middle”][vc_column_inner width=”5/6″][vc_column_text]Mivel Ádámnak is szívügye az állatvédelem\, ezért a közös edzés apropóján egész novemberben gyűjtést szervezünk a Zöld Menedék Állatvédő Alapítványnak! \n\nPénzadományaitokat a Next Level Fitness recepciójánál kihelyezett dobozba helyezhetitek el\, november 26-ig.\nNovember 26-án az edzés és szeminárium díjmentes (bérlettel vagy napijeggyel)\, azonban minden látogatótól azt kérjük\, hogy hozzon magával állateledelt – így támogatva a Zöld Menedéket.\nSegítségeteket jótékonysági tombolajeggyel és szuper nyereményekkel háláljuk meg; mindenki\, aki adakozik sorszámmal ellátott tombolajegyet kap!\n\n[/vc_column_text][/vc_column_inner][vc_column_inner width=”1/6″][vc_single_image image=”56230″ img_size=”full” image_hovers=”false”][/vc_column_inner][/vc_row_inner][vc_row_inner equal_height=”yes” content_placement=”middle”][vc_column_inner width=”1/3″][vc_single_image image=”56237″ img_size=”full” image_hovers=”false”][vc_single_image image=”56236″ img_size=”full” image_hovers=”false”][/vc_column_inner][vc_column_inner width=”2/3″][vc_column_text] \nNyeremények:\nFitness Bérletek \n\n1 darab éves Next Level Fitness bérlet (értéke 142.900 Ft)\n2 darab féléves Next Level Fitness bérlet (értéke 75.900 Ft/db)\n3 darab 3 hónapos Next Level Fitness bérlet (értéke 39.900 Ft/db)\n4 darab 1 hónapos Next Level Fitness bérlet (értéke 15.900 Ft/db)\n\nInfraSlimX bérletek \n\n1 darab 30 perces 20 alkalmas InfraSlimX bérlet (értéke 50.800 Ft)\n2 darab 30 perces 10 alkalmas InfraSlimX bérlet (értéke 26.900 Ft/db)\n3 darab 30 perces 5 alkalmas InfraSlimX bérlet (értéke 14.200 Ft/db)\n\nSzemélyi edzés és étkezési tanácsadás  – 90 percben személyi edzőinkkel\nEdzőink is örömmel ajánlották fel szakértelmüket a jó ügy érdekében\, így edzést nyerhettek Pint Anikóval\, Simó Viviennel\, Takács Zolival\, Tányéros Balázzsal és Gulyás Ferivel is![/vc_column_text][/vc_column_inner][/vc_row_inner][/vc_column][/vc_row]
URL:https://nextlevelfitness.hu/esemenyek/edzes-szeminarium-dudas-adam-testepito-bajnokkal-a-next-level-fitnessben-2022-11-26-szombat/
LOCATION:Next Level Fitness\, Pesti út 076/20\, Szõdliget\, 2133\, Magyarország
ATTACH;FMTTYPE=image/png:https://nextlevelfitness.hu/wp-content/uploads/2022/10/Dudas-Adam-a-Next-Level-Fitnessben-Edzes-es-szeminarium.png
ORGANIZER;CN="Next Level Fitness":MAILTO:info@nextlevelfitness.hu
END:VEVENT
END:VCALENDAR